BEGIN:VCALENDAR
VERSION:2.0
PRODID:-//Tukios.com/
BEGIN:VEVENT
UID:322e509b-7f28-43cb-a034-52cb19f20d19@www.alpinememorialfuneralhome.com
DTSTAMP:20260425T192238Z
DTSTART:20260502
SUMMARY:Interment following Funeral Mass
DESCRIPTION:
URL:https://www.alpinememorialfuneralhome.com/obituaries/manuel-baeza
LOCATION:  S Tenison St   TX 79843
GEO:30.3066512;-104.038524
END:VEVENT
END:VCALENDAR