BEGIN:VCALENDAR
VERSION:2.0
PRODID:-//Tukios.com/
BEGIN:VEVENT
UID:d0fd13c4-442d-4dc8-ba93-db644fffb465@www.alpinememorialfuneralhome.com
DTSTAMP:20260425T192624Z
DTSTART:20260502T160000Z
DTEND:20260502T170000Z
SUMMARY:Funeral Mass
DESCRIPTION:
URL:https://www.alpinememorialfuneralhome.com/obituaries/manuel-baeza
LOCATION: 211 W San Antonio St  Marfa TX 79843
GEO:30.3087671;-104.0223356
END:VEVENT
END:VCALENDAR