BEGIN:VCALENDAR
VERSION:2.0
PRODID:-//Tukios.com/
BEGIN:VEVENT
UID:444f1e06-8d7a-46ae-8ad5-8b803b39ca27@www.alpinememorialfuneralhome.com
DTSTAMP:20260425T192527Z
DTSTART:20260502T150000Z
DTEND:20260502T160000Z
SUMMARY:Rosary
DESCRIPTION:
URL:https://www.alpinememorialfuneralhome.com/obituaries/manuel-baeza
LOCATION: 211 W San Antonio St  Marfa TX 79843
GEO:30.3087671;-104.0223356
END:VEVENT
END:VCALENDAR