BEGIN:VCALENDAR
VERSION:2.0
PRODID:-//Tukios.com/
BEGIN:VEVENT
UID:2a30a259-54e4-4c8f-a7af-01d47b8ff0e7@www.alpinememorialfuneralhome.com
DTSTAMP:20260425T191847Z
DTSTART:20260502T140000Z
DTEND:20260502T150000Z
SUMMARY:Visitation
DESCRIPTION:
URL:https://www.alpinememorialfuneralhome.com/obituaries/manuel-baeza
LOCATION: 211 W San Antonio St  Marfa TX 79843
GEO:30.3087671;-104.0223356
END:VEVENT
END:VCALENDAR